BEGIN:VCALENDAR
VERSION:2.0
PRODID:-//Pro Racing//Championship Calendar//PT
CALSCALE:GREGORIAN
METHOD:PUBLISH
X-WR-CALNAME:F1BC - GR CUP
X-WR-TIMEZONE:America/Sao_Paulo
BEGIN:VEVENT
UID:cmn5tsqrw000hc4cxnntvpry0@proracing.com
DTSTAMP:20260421T102024Z
DTSTART:20260427T230000Z
DTEND:20260428T010000Z
SUMMARY:F1BC - GR CUP - Etapa 1: Watkins Glen
DESCRIPTION:Pista: Watkins Glen\nStatus: Programada\nMais detalhes: https://proracing.com.br/rounds/cmn5tsqrw000hc4cxnntvpry0
LOCATION:Watkins Glen
END:VEVENT
BEGIN:VEVENT
UID:cmn5tt79e000ic4cxy1u7n2zu@proracing.com
DTSTAMP:20260421T102024Z
DTSTART:20260525T230000Z
DTEND:20260526T010000Z
SUMMARY:F1BC - GR CUP - Etapa 2: Oulton Park
DESCRIPTION:Pista: Oulton Park\nStatus: Programada\nMais detalhes: https://proracing.com.br/rounds/cmn5tt79e000ic4cxy1u7n2zu
LOCATION:Oulton Park
END:VEVENT
BEGIN:VEVENT
UID:cmn5tsbv1000gc4cx8b47hon3@proracing.com
DTSTAMP:20260421T102024Z
DTSTART:20260413T230000Z
DTEND:20260414T010000Z
SUMMARY:F1BC - GR CUP - Etapa 3: Tsukuba
DESCRIPTION:Pista: Tsukuba\nStatus: Finalizada\nMais detalhes: https://proracing.com.br/rounds/cmn5tsbv1000gc4cx8b47hon3
LOCATION:Tsukuba
END:VEVENT
BEGIN:VEVENT
UID:cmnezrh6w004dygcxdx3o04oy@proracing.com
DTSTAMP:20260421T102024Z
DTSTART:20260330T230000Z
DTEND:20260331T010000Z
SUMMARY:F1BC - GR CUP - Etapa 4: Zandvoort
DESCRIPTION:Pista: Zandvoort\nStatus: Finalizada\nMais detalhes: https://proracing.com.br/rounds/cmnezrh6w004dygcxdx3o04oy
LOCATION:Zandvoort
END:VEVENT
BEGIN:VEVENT
UID:cmn5trmgb000ec4cx4xqo25ec@proracing.com
DTSTAMP:20260421T102024Z
DTSTART:20260316T230000Z
DTEND:20260317T010000Z
SUMMARY:F1BC - GR CUP - Etapa 5: Watkins Glen
DESCRIPTION:Pista: Watkins Glen\nStatus: Finalizada\nMais detalhes: https://proracing.com.br/rounds/cmn5trmgb000ec4cx4xqo25ec
LOCATION:Watkins Glen
END:VEVENT
END:VCALENDAR